BEGIN:VCALENDAR
VERSION:2.0
PRODID:-//Sabre//Sabre VObject 4.5.8//EN
CALSCALE:GREGORIAN
LAST-MODIFIED:20260420T182715Z
BEGIN:VTIMEZONE
TZID:America/Los_Angeles
X-MICROSOFT-CDO-TZID:13
BEGIN:STANDARD
DTSTART:20251102T090000
TZOFFSETFROM:-0700
TZOFFSETTO:-0800
TZNAME:PST
END:STANDARD
BEGIN:STANDARD
DTSTART:20261101T090000
TZOFFSETFROM:-0700
TZOFFSETTO:-0800
TZNAME:PST
END:STANDARD
BEGIN:DAYLIGHT
DTSTART:20260308T100000
TZOFFSETFROM:-0800
TZOFFSETTO:-0700
TZNAME:PDT
END:DAYLIGHT
END:VTIMEZONE
BEGIN:VEVENT
UID:08e221c5-ecee-49cc-9e60-bce8dfa41248
DTSTAMP:20260420T182715Z
SUMMARY:Immersive Web Group Calls
DTSTART;TZID=America/Los_Angeles:20260616T110000
DTEND;TZID=America/Los_Angeles:20260616T120000
DESCRIPTION:https://www.w3.org/events/meetings/08e221c5-ecee-49cc-9e60-bce8
 dfa41248/20260616T110000/\n\n\n\nAgenda: https://github.com/immersive-web/
 administrivia/blob/main/meetings/2026/
STATUS:CONFIRMED
CREATED:20260406T191230Z
LAST-MODIFIED:20260420T182715Z
SEQUENCE:1
ORGANIZER;CN=W3C Calendar;PARTSTAT=ACCEPTED;ROLE=NON-PARTICIPANT:mailto:nor
 eply@w3.org
ATTENDEE;CUTYPE=GROUP;ROLE=OPT-PARTICIPANT;RSVP=FALSE;CN=Immersive Web Comm
 unity Group:mailto:public-immersive-web@w3.org
ATTENDEE;CUTYPE=GROUP;ROLE=OPT-PARTICIPANT;RSVP=FALSE;CN=Immersive Web Work
 ing Group:mailto:public-immersive-web-wg@w3.org
RECURRENCE-ID;TZID=America/Los_Angeles:20260616T110000
END:VEVENT
END:VCALENDAR
