BEGIN:VCALENDAR
VERSION:2.0
PRODID:-//Sabre//Sabre VObject 4.5.8//EN
CALSCALE:GREGORIAN
LAST-MODIFIED:20231102T150429Z
BEGIN:VTIMEZONE
TZID:Europe/Berlin
X-MICROSOFT-CDO-TZID:4
BEGIN:DAYLIGHT
DTSTART:20230326T010000
TZOFFSETFROM:+0100
TZOFFSETTO:+0200
TZNAME:CEST
END:DAYLIGHT
BEGIN:DAYLIGHT
DTSTART:20240331T010000
TZOFFSETFROM:+0100
TZOFFSETTO:+0200
TZNAME:CEST
END:DAYLIGHT
BEGIN:STANDARD
DTSTART:20231029T010000
TZOFFSETFROM:+0200
TZOFFSETTO:+0100
TZNAME:CET
END:STANDARD
END:VTIMEZONE
BEGIN:VEVENT
UID:08b9bb73-d0f9-4c51-b45e-343f966b1395
DTSTAMP:20231102T150429Z
SUMMARY:WoT CG - Live Coding 1 - Scripting API and Bindings
DTSTART;TZID=Europe/Berlin:20231102T160000
DTEND;TZID=Europe/Berlin:20231102T170000
DESCRIPTION:https://www.w3.org/events/meetings/08b9bb73-d0f9-4c51-b45e-343f
 966b1395/\n\nFor the first time\, we are hosting a live coding session. Cr
 istiano Aguzzi will show how to build WoT Consumer and Thing applications 
 and show the inner workings of the reference implementation of the WoT Scr
 ipting API\, Eclipse Thingweb node-wot. This will be an opportunity to und
 erstand how bindings work in the WoT\, from the most high-level code to th
 e concrete protocol messages.\n\nAgenda\n\n- News from CG\n- Live Coding S
 ession\n\nJoining Instructions: https://discord.gg/N3mWwwgTz2?event=116193
 2440609235004\n\nJoining Instructions\n\nDiscord app may not work on compa
 ny-managed networks. In those cases\, please use the browser version.\n\nW
 e will also broadcast it on YouTube so that anyone can watch it there. Liv
 e broadcast link: https://youtube.com/live/2eUOk0oE5vo?feature=share
STATUS:CONFIRMED
CREATED:20231012T074642Z
LAST-MODIFIED:20231102T150429Z
SEQUENCE:3
ORGANIZER;CN=W3C Calendar;PARTSTAT=ACCEPTED;ROLE=NON-PARTICIPANT:mailto:nor
 eply@w3.org
ATTENDEE;CUTYPE=GROUP;ROLE=OPT-PARTICIPANT;RSVP=FALSE;CN=Web of Things Comm
 unity Group:mailto:public-web-of-things@w3.org
ATTENDEE;CN=Davide Ferraris:mailto:ferraris@uma.es
END:VEVENT
END:VCALENDAR
