BEGIN:VCALENDAR
VERSION:2.0
PRODID:-//Sabre//Sabre VObject 4.5.8//EN
CALSCALE:GREGORIAN
LAST-MODIFIED:20230203T061302Z
BEGIN:VTIMEZONE
TZID:Etc/UTC
BEGIN:STANDARD
DTSTART:20220211T220000
TZOFFSETFROM:+0000
TZOFFSETTO:+0000
TZNAME:UTC
END:STANDARD
END:VTIMEZONE
BEGIN:VEVENT
UID:0848d099-17f4-4c3a-bd3b-325ff0474647
DTSTAMP:20230203T061302Z
SUMMARY:BoD Governance Committee
DTSTART;TZID=Etc/UTC:20230206T220000
DTEND;TZID=Etc/UTC:20230206T230000
DESCRIPTION:https://www.w3.org/events/meetings/0848d099-17f4-4c3a-bd3b-325f
 f0474647/\n\n\n\nAgenda\n\n0. Agenda review\, scribe selection\n1. Approve
  minutes from 2023-01-30\n2. Continue Partner Agreement discussion\n3. Rev
 iew Task List
STATUS:TENTATIVE
CREATED:20230131T040727Z
LAST-MODIFIED:20230203T061302Z
SEQUENCE:0
ORGANIZER;CN=W3C Calendar;PARTSTAT=ACCEPTED;ROLE=NON-PARTICIPANT:mailto:nor
 eply@w3.org
ATTENDEE;CUTYPE=GROUP;ROLE=OPT-PARTICIPANT;RSVP=FALSE;CN=Board Governance C
 ommittee:mailto:board-governance@w3.org
ATTENDEE;CUTYPE=GROUP;ROLE=OPT-PARTICIPANT;RSVP=FALSE;CN=Board of Directors
 :mailto:board@w3.org
END:VEVENT
END:VCALENDAR
