BEGIN:VCALENDAR
VERSION:2.0
PRODID:-//Sabre//Sabre VObject 4.5.8//EN
CALSCALE:GREGORIAN
LAST-MODIFIED:20250716T070003Z
BEGIN:VTIMEZONE
TZID:Etc/UTC
BEGIN:STANDARD
DTSTART:20240622T150000
TZOFFSETFROM:+0000
TZOFFSETTO:+0000
TZNAME:UTC
END:STANDARD
END:VTIMEZONE
BEGIN:VEVENT
UID:07b33b4b-92c6-4278-8036-e6384a0d4a81
DTSTAMP:20250716T070003Z
SUMMARY:WebRTC WG June 2025 call
DTSTART;TZID=Etc/UTC:20250617T150000
DTEND;TZID=Etc/UTC:20250617T170000
DESCRIPTION:https://www.w3.org/events/meetings/07b33b4b-92c6-4278-8036-e638
 4a0d4a81/\n\n\n\nAgenda: https://www.w3.org/2011/04/webrtc/wiki/Jun_17_202
 5
STATUS:CONFIRMED
CREATED:20250430T061017Z
LAST-MODIFIED:20250716T070003Z
SEQUENCE:1
ORGANIZER;CN=W3C Calendar;PARTSTAT=ACCEPTED;ROLE=NON-PARTICIPANT:mailto:nor
 eply@w3.org
ATTENDEE;CUTYPE=GROUP;ROLE=OPT-PARTICIPANT;RSVP=FALSE;CN=Web Real-Time Comm
 unications Working Group:mailto:public-webrtc@w3.org
END:VEVENT
END:VCALENDAR
