BEGIN:VCALENDAR
VERSION:2.0
PRODID:-//Sabre//Sabre VObject 4.5.8//EN
CALSCALE:GREGORIAN
LAST-MODIFIED:20240926T160608Z
BEGIN:VTIMEZONE
TZID:America/Los_Angeles
X-MICROSOFT-CDO-TZID:13
BEGIN:STANDARD
DTSTART:20231105T090000
TZOFFSETFROM:-0700
TZOFFSETTO:-0800
TZNAME:PST
END:STANDARD
BEGIN:STANDARD
DTSTART:20241103T090000
TZOFFSETFROM:-0700
TZOFFSETTO:-0800
TZNAME:PST
END:STANDARD
BEGIN:DAYLIGHT
DTSTART:20240310T100000
TZOFFSETFROM:-0800
TZOFFSETTO:-0700
TZNAME:PDT
END:DAYLIGHT
END:VTIMEZONE
BEGIN:VEVENT
UID:07901330-46b8-4f87-9a7a-23e13f2bf857
DTSTAMP:20240926T160608Z
SUMMARY:MiniApps Working Group
DTSTART;TZID=America/Los_Angeles:20240926T090000
DTEND;TZID=America/Los_Angeles:20240926T110000
DESCRIPTION:https://www.w3.org/events/meetings/07901330-46b8-4f87-9a7a-23e1
 3f2bf857/\n\n\n\nAgenda: https://github.com/w3c/miniapp/issues/213\n\nAgen
 da\n\n1. Logistics & Administrivia\n2. Status of specifications\n3. Propos
 als and next steps for the group
STATUS:CONFIRMED
CREATED:20240614T161704Z
LAST-MODIFIED:20240926T160608Z
SEQUENCE:6
ORGANIZER;CN=W3C Calendar;PARTSTAT=ACCEPTED;ROLE=NON-PARTICIPANT:mailto:nor
 eply@w3.org
ATTENDEE;CUTYPE=GROUP;ROLE=OPT-PARTICIPANT;RSVP=FALSE;CN=MiniApps Working G
 roup:mailto:public-miniapps-wg@w3.org
LOCATION:-1 Lower Level - Catalina 2
CATEGORIES:TPAC 2024,Group Meetings
END:VEVENT
END:VCALENDAR
