BEGIN:VCALENDAR
VERSION:2.0
PRODID:-//Sabre//Sabre VObject 4.5.8//EN
CALSCALE:GREGORIAN
LAST-MODIFIED:20240903T015920Z
BEGIN:VTIMEZONE
TZID:Asia/Tokyo
X-MICROSOFT-CDO-TZID:20
BEGIN:STANDARD
DTSTART:20230911T000000
TZOFFSETFROM:+0900
TZOFFSETTO:+0900
TZNAME:JST
END:STANDARD
END:VTIMEZONE
BEGIN:VEVENT
UID:0737551e-80be-4264-92e4-ad7317df3c65
DTSTAMP:20240903T015920Z
SUMMARY:JL-TF編集会議
DTSTART;TZID=Asia/Tokyo:20240905T090000
DTEND;TZID=Asia/Tokyo:20240905T110000
DESCRIPTION:https://www.w3.org/events/meetings/0737551e-80be-4264-92e4-ad73
 17df3c65/\n\nJLreq-dの編集会議です\n\nhttps://www.w3.org/2021/04/jl
 req-meeting-info.html\nにて確認してください。（W3Cアカウン
 トでログインすればカレンダーページでも見ることが
 できます）
STATUS:CONFIRMED
CREATED:20240903T015919Z
LAST-MODIFIED:20240903T015920Z
SEQUENCE:0
ORGANIZER;CN=W3C Calendar;PARTSTAT=ACCEPTED;ROLE=NON-PARTICIPANT:mailto:nor
 eply@w3.org
ATTENDEE;CUTYPE=GROUP;ROLE=OPT-PARTICIPANT;RSVP=FALSE;CN=Japanese Layout Ta
 sk Force | 日本語組版タスクフォース:mailto:public-i18n-japanes
 e@w3.org
LOCATION:https://www.w3.org/2021/04/jlreq-meeting-info.html
END:VEVENT
END:VCALENDAR
