BEGIN:VCALENDAR
VERSION:2.0
PRODID:-//Sabre//Sabre VObject 4.5.8//EN
CALSCALE:GREGORIAN
LAST-MODIFIED:20230517T171010Z
BEGIN:VTIMEZONE
TZID:America/New_York
X-MICROSOFT-CDO-TZID:10
BEGIN:STANDARD
DTSTART:20221106T060000
TZOFFSETFROM:-0400
TZOFFSETTO:-0500
TZNAME:EST
END:STANDARD
BEGIN:STANDARD
DTSTART:20231105T060000
TZOFFSETFROM:-0400
TZOFFSETTO:-0500
TZNAME:EST
END:STANDARD
BEGIN:DAYLIGHT
DTSTART:20230312T070000
TZOFFSETFROM:-0500
TZOFFSETTO:-0400
TZNAME:EDT
END:DAYLIGHT
END:VTIMEZONE
BEGIN:VEVENT
UID:071c8a3f-1002-4d82-a123-e33294dcdc22
DTSTAMP:20230517T171010Z
SUMMARY:JSON-LD CG Meeting
DTSTART;TZID=America/New_York:20230517T120000
DTEND;TZID=America/New_York:20230517T125500
DESCRIPTION:https://www.w3.org/events/meetings/071c8a3f-1002-4d82-a123-e332
 94dcdc22/20230517T120000/\n\nDiscussion of outstanding JSON-LD issues\, YA
 ML-LD and related material.\n\nGeneral discussion about JSON-LD for anyone
  interested.\n\nAgenda\n\n1. Announcements and Introductions\n------------
 -------------------------\n\n2. YAML-LD\n------------\n\nPull Requests: ht
 tps://github.com/json-ld/yaml-ld/pulls\n\n3. JSON-LD Issue Discussion\n---
 --------------------------\n\nhttps://github.com/orgs/w3c/projects/4\n\n* 
 Generally suggest creating and merging PRs for editorial ErratumRiased. Wh
 at are the documentation requirements?\n* Issue w3c/json-ld-syntax#33 – 
 "Kill IRI"\n  IRI lives! It's been somewhat updated and expanded on in RDF
  1.2 Concepts\, so suggest closing this with a reference.\n* w3cjson-ld-ap
 i#552 – Change "Lexicographical Order" (and related) to "Unicode code po
 int order" (also w3c/json-ld-framing#141)\n  Constant with ordering done i
 n RDF Canonicalization\, for example.\n* PR w3c/json-ld-api#559 – Add J
 SON literal tests.\n  In Draft mode. Suggest completing and merging.\n* PR
  w3c/json-ld-framing#146 – fixed frame on type @json\n  Propose merging.
 \n* Other issues discussed time permitting.\n\n4. Open Discussion\n-------
 ------------\n\nOpen discussion and "Ask me Anything" on JSON-LD topics.\n
 \n5. Next call\n---------------------
STATUS:CONFIRMED
CREATED:20230512T210605Z
LAST-MODIFIED:20230517T171010Z
SEQUENCE:2
ORGANIZER;CN=W3C Calendar;PARTSTAT=ACCEPTED;ROLE=NON-PARTICIPANT:mailto:nor
 eply@w3.org
ATTENDEE;CUTYPE=GROUP;ROLE=OPT-PARTICIPANT;RSVP=FALSE;CN=JSON for Linked Da
 ta Community Group:mailto:public-json-ld@w3.org
ATTENDEE;CUTYPE=GROUP;ROLE=OPT-PARTICIPANT;RSVP=FALSE;CN=JSON-LD Working Gr
 oup:mailto:public-json-ld-wg@w3.org
LOCATION:#json-ld on irc.w3.org
RECURRENCE-ID;TZID=America/New_York:20230517T120000
END:VEVENT
END:VCALENDAR
