BEGIN:VCALENDAR
VERSION:2.0
PRODID:-//Sabre//Sabre VObject 4.5.8//EN
CALSCALE:GREGORIAN
LAST-MODIFIED:20230927T150312Z
BEGIN:VTIMEZONE
TZID:America/Los_Angeles
X-MICROSOFT-CDO-TZID:13
BEGIN:STANDARD
DTSTART:20221106T090000
TZOFFSETFROM:-0700
TZOFFSETTO:-0800
TZNAME:PST
END:STANDARD
BEGIN:STANDARD
DTSTART:20231105T090000
TZOFFSETFROM:-0700
TZOFFSETTO:-0800
TZNAME:PST
END:STANDARD
BEGIN:DAYLIGHT
DTSTART:20230312T100000
TZOFFSETFROM:-0800
TZOFFSETTO:-0700
TZNAME:PDT
END:DAYLIGHT
END:VTIMEZONE
BEGIN:VEVENT
UID:0535d249-dca6-4092-8374-2db1427f232f
DTSTAMP:20230927T150312Z
SUMMARY:W3C Process CG Call
DTSTART;TZID=America/Los_Angeles:20230927T070000
DTEND;TZID=America/Los_Angeles:20230927T080000
DESCRIPTION:https://www.w3.org/events/meetings/0535d249-dca6-4092-8374-2db1
 427f232f/20230927T070000/\n\nRestarting the Process discussion post-TPAC 2
 023 and doing a bit of issue triage.\n\nAgenda\n\n1. P2023.1 update\n1. Up
 dates from TPAC 2023?\n1. [New issues](https://github.com/w3c/w3process/is
 sues?q=is%3Aissue+created%3A%3E%3D2023-06-27) (since June)\n1. [Formal Obj
 ections and Council](https://github.com/w3c/w3process/issues?q=is%3Aissue+
 is%3Aopen+label%3A%22Director-free%3A+FO%2FCouncil%22) issues\n1. Process 
 2024: REC maintenance [#589](https://github.com/w3c/w3process/issues/589)\
 n1. Picking up some [deferred issues](https://github.com/w3c/w3process/mil
 estone/7)
STATUS:CONFIRMED
CREATED:20230926T145148Z
LAST-MODIFIED:20230927T150312Z
SEQUENCE:3
ORGANIZER;CN=W3C Calendar;PARTSTAT=ACCEPTED;ROLE=NON-PARTICIPANT:mailto:nor
 eply@w3.org
ATTENDEE;CUTYPE=GROUP;ROLE=OPT-PARTICIPANT;RSVP=FALSE;CN=W3C Process Commun
 ity Group:mailto:public-w3process@w3.org
RECURRENCE-ID;TZID=America/Los_Angeles:20230927T070000
END:VEVENT
END:VCALENDAR
