BEGIN:VCALENDAR
VERSION:2.0
PRODID:-//Sabre//Sabre VObject 4.5.8//EN
CALSCALE:GREGORIAN
LAST-MODIFIED:20260407T172503Z
BEGIN:VTIMEZONE
TZID:Asia/Taipei
X-MICROSOFT-CDO-TZID:75
BEGIN:STANDARD
DTSTART:20250616T060000
TZOFFSETFROM:+0800
TZOFFSETTO:+0800
TZNAME:CST
END:STANDARD
END:VTIMEZONE
BEGIN:VEVENT
UID:0504a4a1-96c3-4c9f-972f-f7d7e1445909
DTSTAMP:20260407T172503Z
SUMMARY:W3C CCG (APAC) - Zero Knowledge Proof with Quantum-Safe Algorithm
DTSTART;TZID=Asia/Taipei:20260611T140000
DTEND;TZID=Asia/Taipei:20260611T150000
DESCRIPTION:https://www.w3.org/events/meetings/0504a4a1-96c3-4c9f-972f-f7d7
 e1445909/\n\nPo-Chun Kuo from WisRoot Tech is presenting Zero Knowledge Pr
 oof with Quantum-Safe Algorithm.\n\nMeeting Link: https://meet.google.com/
 har-kjhr-mrb\n\nAgenda\n\nAgenda:\n1. Code of Ethics & Professional Conduc
 t Reminder:  https://www.w3.org/Consortium/cepc/  \n2. IP Note:  \n    a. 
 Anyone can participate in these calls. However\, all substantive contribut
 ors to any CCG Work Items must be members of the CCG with full IPR agreeme
 nts signed. https://www.w3.org/community/credentials/join\n    b. Ensure y
 ou have a W3 account: https://www.w3.org/accounts/request\n    c. W3C Comm
 unity Contributor License Agreement (CLA): https://www.w3.org/community/ab
 out/agreements/cla/\n3. Call Notes are shared with the W3C mailing list wi
 thin 24 hours\n4. Introductions & Reintroductions\n5. Announcements & Remi
 nders: https://w3c-ccg.github.io/announcements/\n6. Work Items: https://gi
 thub.com/w3c-ccg/community/issues?q=is%3Aopen+is%3Aissue+label%3A%22action
 %3A+review+next%22\n7. Main Agenda\n8. Discussions\n\nJoining Instructions
 \n\nGoogle Meet:\nhttps://meet.google.com/har-kjhr-mrb\n\nVoice:\nDial: 
 ‪(US) +1 434-265-5260‬ PIN: ‪242 728 140‬#\nMore phone numbers: ht
 tps://tel.meet/dzc-yjfq-tyf?pin=8764998681084
STATUS:TENTATIVE
CREATED:20260401T162717Z
LAST-MODIFIED:20260407T172503Z
SEQUENCE:1
ORGANIZER;CN=W3C Calendar;PARTSTAT=ACCEPTED;ROLE=NON-PARTICIPANT:mailto:nor
 eply@w3.org
ATTENDEE;CUTYPE=GROUP;ROLE=OPT-PARTICIPANT;RSVP=FALSE;CN=Credentials Commun
 ity Group:mailto:public-credentials@w3.org
END:VEVENT
END:VCALENDAR
