BEGIN:VCALENDAR
VERSION:2.0
PRODID:-//Sabre//Sabre VObject 4.5.8//EN
CALSCALE:GREGORIAN
LAST-MODIFIED:20250819T214700Z
BEGIN:VTIMEZONE
TZID:America/New_York
X-MICROSOFT-CDO-TZID:10
BEGIN:STANDARD
DTSTART:20241103T060000
TZOFFSETFROM:-0400
TZOFFSETTO:-0500
TZNAME:EST
END:STANDARD
BEGIN:STANDARD
DTSTART:20251102T060000
TZOFFSETFROM:-0400
TZOFFSETTO:-0500
TZNAME:EST
END:STANDARD
BEGIN:DAYLIGHT
DTSTART:20250309T070000
TZOFFSETFROM:-0500
TZOFFSETTO:-0400
TZNAME:EDT
END:DAYLIGHT
END:VTIMEZONE
BEGIN:VEVENT
UID:04e937c0-e751-4c7e-9ba4-5782e0b3d272
DTSTAMP:20250819T214700Z
SUMMARY:JSON-LD WG and CG Meeting
DTSTART;TZID=America/New_York:20250827T120000
DTEND;TZID=America/New_York:20250827T125500
DESCRIPTION:https://www.w3.org/events/meetings/04e937c0-e751-4c7e-9ba4-5782
 e0b3d272/20250827T120000/\n\nThis will be a combined WG and CG meeting foc
 used the ongoing re-chartering work happening at https://github.com/json-l
 d/json-ld-wg-charter\n\nAgenda\n\n1. Announcements and Introductions\n----
 ---\n\n2. CBOR-LD\n-------\n\nDiscussing editor needs\, etc. around CBOR-L
 D.\n\n3. JSON-LD Rechartering\n-------\n\nWe will be continuing to review 
 the work happening on this PR:\nhttps://github.com/json-ld/json-ld-wg-char
 ter/pull/10\n\n4.  Open Discussion\n-------\n\nOpen discussion and "Ask me
  Anything" on JSON-LD topics.
STATUS:CONFIRMED
CREATED:20250819T214658Z
LAST-MODIFIED:20250819T214700Z
SEQUENCE:4
ORGANIZER;CN=W3C Calendar;PARTSTAT=ACCEPTED;ROLE=NON-PARTICIPANT:mailto:nor
 eply@w3.org
ATTENDEE;CUTYPE=GROUP;ROLE=OPT-PARTICIPANT;RSVP=FALSE;CN=JSON for Linked Da
 ta Community Group:mailto:public-json-ld@w3.org
ATTENDEE;CUTYPE=GROUP;ROLE=OPT-PARTICIPANT;RSVP=FALSE;CN=JSON-LD Working Gr
 oup:mailto:public-json-ld-wg@w3.org
RECURRENCE-ID;TZID=America/New_York:20250827T120000
END:VEVENT
END:VCALENDAR
