BEGIN:VCALENDAR
VERSION:2.0
PRODID:-//Sabre//Sabre VObject 4.5.8//EN
CALSCALE:GREGORIAN
LAST-MODIFIED:20260303T141957Z
BEGIN:VTIMEZONE
TZID:Europe/Berlin
X-MICROSOFT-CDO-TZID:4
BEGIN:STANDARD
DTSTART:20231029T010000
TZOFFSETFROM:+0200
TZOFFSETTO:+0100
TZNAME:CET
END:STANDARD
BEGIN:STANDARD
DTSTART:20241027T010000
TZOFFSETFROM:+0200
TZOFFSETTO:+0100
TZNAME:CET
END:STANDARD
BEGIN:STANDARD
DTSTART:20251026T010000
TZOFFSETFROM:+0200
TZOFFSETTO:+0100
TZNAME:CET
END:STANDARD
BEGIN:STANDARD
DTSTART:20261025T010000
TZOFFSETFROM:+0200
TZOFFSETTO:+0100
TZNAME:CET
END:STANDARD
BEGIN:DAYLIGHT
DTSTART:20240331T010000
TZOFFSETFROM:+0100
TZOFFSETTO:+0200
TZNAME:CEST
END:DAYLIGHT
BEGIN:DAYLIGHT
DTSTART:20250330T010000
TZOFFSETFROM:+0100
TZOFFSETTO:+0200
TZNAME:CEST
END:DAYLIGHT
BEGIN:DAYLIGHT
DTSTART:20260329T010000
TZOFFSETFROM:+0100
TZOFFSETTO:+0200
TZNAME:CEST
END:DAYLIGHT
END:VTIMEZONE
BEGIN:VEVENT
UID:04a42553-5164-4db2-a3fb-6de9b96bbc22
DTSTAMP:20241105T150600Z
SUMMARY:WoT CG Monthly Call
DTSTART;TZID=Europe/Berlin:20241105T160000
DTEND;TZID=Europe/Berlin:20241105T170000
DESCRIPTION:https://www.w3.org/events/meetings/04a42553-5164-4db2-a3fb-6de9
 b96bbc22/\n\nThe WoT Community Group accelerates and fosters collaboration
  around the WoT standards of the Working Group. In these monthly meetings\
 , you can join to discuss the work of the CG such as:\n\n- reports from th
 e focus groups or task forces\n- a casual showcase of your WoT project to 
 get feedback\n- planning of activities such as meetups and plugfests\n- an
 y relevant topics around WoT\n- reach CG resolutions\n\nAgenda: https://gi
 thub.com/w3c/wot-cg/wiki/Meeting-Agenda
STATUS:CONFIRMED
CREATED:20241105T150558Z
LAST-MODIFIED:20241105T150600Z
SEQUENCE:0
ORGANIZER;CN=W3C Calendar;PARTSTAT=ACCEPTED;ROLE=NON-PARTICIPANT:mailto:nor
 eply@w3.org
ATTENDEE;CUTYPE=GROUP;ROLE=OPT-PARTICIPANT;RSVP=FALSE;CN=Web of Things Comm
 unity Group:mailto:public-web-of-things@w3.org
RELATED-TO:881f7fe2-a545-4d7a-90c7-655d0f9cbd0e
RRULE:FREQ=MONTHLY;UNTIL=20260409T140000Z;INTERVAL=1;BYDAY=TU;BYSETPOS=1;WK
 ST=MO
END:VEVENT
BEGIN:VEVENT
UID:04a42553-5164-4db2-a3fb-6de9b96bbc22
DTSTAMP:20250204T143137Z
SUMMARY:WoT CG Monthly Call
DTSTART;TZID=Europe/Berlin:20250204T160000
DTEND;TZID=Europe/Berlin:20250204T170000
DESCRIPTION:https://www.w3.org/events/meetings/04a42553-5164-4db2-a3fb-6de9
 b96bbc22/20250204T160000/\n\nThe WoT Community Group accelerates and foste
 rs collaboration around the WoT standards of the Working Group. In these m
 onthly meetings\, you can join to discuss the work of the CG such as:\n\n-
  reports from the focus groups or task forces\n- a casual showcase of your
  WoT project to get feedback\n- planning of activities such as meetups and
  plugfests\n- any relevant topics around WoT\n- reach CG resolutions\n\nAg
 enda: https://github.com/w3c/wot-cg/wiki/Meeting-Agenda
STATUS:CANCELLED
CREATED:20250204T143134Z
LAST-MODIFIED:20250204T143137Z
SEQUENCE:1
ORGANIZER;CN=W3C Calendar;PARTSTAT=ACCEPTED;ROLE=NON-PARTICIPANT:mailto:nor
 eply@w3.org
ATTENDEE;CUTYPE=GROUP;ROLE=OPT-PARTICIPANT;RSVP=FALSE;CN=Web of Things Comm
 unity Group:mailto:public-web-of-things@w3.org
RECURRENCE-ID;TZID=Europe/Berlin:20250204T160000
END:VEVENT
BEGIN:VEVENT
UID:04a42553-5164-4db2-a3fb-6de9b96bbc22
DTSTAMP:20250425T104104Z
SUMMARY:WoT CG Monthly Call
DTSTART;TZID=Europe/Berlin:20250506T160000
DTEND;TZID=Europe/Berlin:20250506T170000
DESCRIPTION:https://www.w3.org/events/meetings/04a42553-5164-4db2-a3fb-6de9
 b96bbc22/20250506T160000/\n\nThe WoT Community Group accelerates and foste
 rs collaboration around the WoT standards of the Working Group. In these m
 onthly meetings\, you can join to discuss the work of the CG such as:\n\n-
  reports from the focus groups or task forces\n- a casual showcase of your
  WoT project to get feedback\n- planning of activities such as meetups and
  plugfests\n- any relevant topics around WoT\n- reach CG resolutions\n\nAg
 enda: https://github.com/w3c/wot-cg/wiki/Meeting-Agenda
STATUS:CANCELLED
CREATED:20250425T104101Z
LAST-MODIFIED:20250425T104104Z
SEQUENCE:1
ORGANIZER;CN=W3C Calendar;PARTSTAT=ACCEPTED;ROLE=NON-PARTICIPANT:mailto:nor
 eply@w3.org
ATTENDEE;CUTYPE=GROUP;ROLE=OPT-PARTICIPANT;RSVP=FALSE;CN=Web of Things Comm
 unity Group:mailto:public-web-of-things@w3.org
RECURRENCE-ID;TZID=Europe/Berlin:20250506T160000
END:VEVENT
BEGIN:VEVENT
UID:04a42553-5164-4db2-a3fb-6de9b96bbc22
DTSTAMP:20250701T121402Z
SUMMARY:WoT CG Monthly Call
DTSTART;TZID=Europe/Berlin:20250701T160000
DTEND;TZID=Europe/Berlin:20250701T170000
DESCRIPTION:https://www.w3.org/events/meetings/04a42553-5164-4db2-a3fb-6de9
 b96bbc22/20250701T160000/\n\nThe WoT Community Group accelerates and foste
 rs collaboration around the WoT standards of the Working Group. In these m
 onthly meetings\, you can join to discuss the work of the CG such as:\n\n-
  reports from the focus groups or task forces\n- a casual showcase of your
  WoT project to get feedback\n- planning of activities such as meetups and
  plugfests\n- any relevant topics around WoT\n- reach CG resolutions\n\nAg
 enda: https://github.com/w3c/wot-cg/wiki/Meeting-Agenda
STATUS:CANCELLED
CREATED:20250701T121359Z
LAST-MODIFIED:20250701T121402Z
SEQUENCE:1
ORGANIZER;CN=W3C Calendar;PARTSTAT=ACCEPTED;ROLE=NON-PARTICIPANT:mailto:nor
 eply@w3.org
ATTENDEE;CUTYPE=GROUP;ROLE=OPT-PARTICIPANT;RSVP=FALSE;CN=Web of Things Comm
 unity Group:mailto:public-web-of-things@w3.org
RECURRENCE-ID;TZID=Europe/Berlin:20250701T160000
END:VEVENT
BEGIN:VEVENT
UID:04a42553-5164-4db2-a3fb-6de9b96bbc22
DTSTAMP:20251030T235535Z
SUMMARY:WoT CG Monthly Call
DTSTART;TZID=Europe/Berlin:20251104T160000
DTEND;TZID=Europe/Berlin:20251104T170000
DESCRIPTION:https://www.w3.org/events/meetings/04a42553-5164-4db2-a3fb-6de9
 b96bbc22/20251104T160000/\n\nThe WoT Community Group accelerates and foste
 rs collaboration around the WoT standards of the Working Group. In these m
 onthly meetings\, you can join to discuss the work of the CG such as:\n\n-
  reports from the focus groups or task forces\n- a casual showcase of your
  WoT project to get feedback\n- planning of activities such as meetups and
  plugfests\n- any relevant topics around WoT\n- reach CG resolutions\n\nAg
 enda: https://github.com/w3c/wot-cg/wiki/Meeting-Agenda
STATUS:CANCELLED
CREATED:20251030T235532Z
LAST-MODIFIED:20251030T235535Z
SEQUENCE:1
ORGANIZER;CN=W3C Calendar;PARTSTAT=ACCEPTED;ROLE=NON-PARTICIPANT:mailto:nor
 eply@w3.org
ATTENDEE;CUTYPE=GROUP;ROLE=OPT-PARTICIPANT;RSVP=FALSE;CN=Web of Things Comm
 unity Group:mailto:public-web-of-things@w3.org
RECURRENCE-ID;TZID=Europe/Berlin:20251104T160000
END:VEVENT
BEGIN:VEVENT
UID:04a42553-5164-4db2-a3fb-6de9b96bbc22
DTSTAMP:20260102T122921Z
SUMMARY:WoT CG Monthly Call
DTSTART;TZID=Europe/Berlin:20260106T160000
DTEND;TZID=Europe/Berlin:20260106T170000
DESCRIPTION:https://www.w3.org/events/meetings/04a42553-5164-4db2-a3fb-6de9
 b96bbc22/20260106T160000/\n\nPublic holiday in Germany\n\nThe WoT Communit
 y Group accelerates and fosters collaboration around the WoT standards of 
 the Working Group. In these monthly meetings\, you can join to discuss the
  work of the CG such as:\n\n- reports from the focus groups or task forces
 \n- a casual showcase of your WoT project to get feedback\n- planning of a
 ctivities such as meetups and plugfests\n- any relevant topics around WoT\
 n- reach CG resolutions\n\nAgenda: https://github.com/w3c/wot-cg/wiki/Meet
 ing-Agenda
STATUS:CANCELLED
CREATED:20260102T122918Z
LAST-MODIFIED:20260102T122921Z
SEQUENCE:1
ORGANIZER;CN=W3C Calendar;PARTSTAT=ACCEPTED;ROLE=NON-PARTICIPANT:mailto:nor
 eply@w3.org
ATTENDEE;CUTYPE=GROUP;ROLE=OPT-PARTICIPANT;RSVP=FALSE;CN=Web of Things Comm
 unity Group:mailto:public-web-of-things@w3.org
RECURRENCE-ID;TZID=Europe/Berlin:20260106T160000
END:VEVENT
BEGIN:VEVENT
UID:04a42553-5164-4db2-a3fb-6de9b96bbc22
DTSTAMP:20260303T141957Z
SUMMARY:WoT CG Monthly Call
DTSTART;TZID=Europe/Berlin:20260310T160000
DTEND;TZID=Europe/Berlin:20260310T170000
DESCRIPTION:https://www.w3.org/events/meetings/04a42553-5164-4db2-a3fb-6de9
 b96bbc22/20260303T160000/\n\nThe WoT Community Group accelerates and foste
 rs collaboration around the WoT standards of the Working Group. In these m
 onthly meetings\, you can join to discuss the work of the CG such as:\n\n-
  reports from the focus groups or task forces\n- a casual showcase of your
  WoT project to get feedback\n- planning of activities such as meetups and
  plugfests\n- any relevant topics around WoT\n- reach CG resolutions\n\nAg
 enda: https://github.com/w3c/wot-cg/wiki/Meeting-Agenda
STATUS:CONFIRMED
CREATED:20260303T141954Z
LAST-MODIFIED:20260303T141957Z
SEQUENCE:1
ORGANIZER;CN=W3C Calendar;PARTSTAT=ACCEPTED;ROLE=NON-PARTICIPANT:mailto:nor
 eply@w3.org
ATTENDEE;CUTYPE=GROUP;ROLE=OPT-PARTICIPANT;RSVP=FALSE;CN=Web of Things Comm
 unity Group:mailto:public-web-of-things@w3.org
RECURRENCE-ID;TZID=Europe/Berlin:20260303T160000
END:VEVENT
BEGIN:VEVENT
UID:881f7fe2-a545-4d7a-90c7-655d0f9cbd0e
DTSTAMP:20241105T150602Z
SUMMARY:WoT CG Monthly Call
DTSTART;TZID=Europe/Berlin:20240507T160000
DTEND;TZID=Europe/Berlin:20240507T170000
DESCRIPTION:https://www.w3.org/events/meetings/881f7fe2-a545-4d7a-90c7-655d
 0f9cbd0e/\n\nThe WoT Community Group accelerates and fosters collaboration
  around the WoT standards of the Working Group. In these monthly meetings\
 , you can join to discuss the work of the CG such as:\n\n- reports from th
 e focus groups or task forces\n- a casual showcase of your WoT project to 
 get feedback\n- planning of activities such as meetups and plugfests\n- an
 y relevant topics around WoT\n- reach CG resolutions\n\nAgenda: https://gi
 thub.com/w3c/wot-cg/wiki/Meeting-Agenda
STATUS:CONFIRMED
CREATED:20240404T154555Z
LAST-MODIFIED:20241105T150602Z
SEQUENCE:1
ORGANIZER;CN=W3C Calendar;PARTSTAT=ACCEPTED;ROLE=NON-PARTICIPANT:mailto:nor
 eply@w3.org
ATTENDEE;CUTYPE=GROUP;ROLE=OPT-PARTICIPANT;RSVP=FALSE;CN=Web of Things Comm
 unity Group:mailto:public-web-of-things@w3.org
RRULE:FREQ=MONTHLY;UNTIL=20241105T150000Z;INTERVAL=1;BYDAY=TU;BYSETPOS=1;WK
 ST=MO
RELATED-TO:04a42553-5164-4db2-a3fb-6de9b96bbc22
END:VEVENT
BEGIN:VEVENT
UID:881f7fe2-a545-4d7a-90c7-655d0f9cbd0e
DTSTAMP:20240521T135602Z
SUMMARY:WoT CG Monthly Call
DTSTART;TZID=Europe/Berlin:20240521T160000
DTEND;TZID=Europe/Berlin:20240521T170000
DESCRIPTION:https://www.w3.org/events/meetings/881f7fe2-a545-4d7a-90c7-655d
 0f9cbd0e/20240507T160000/\n\nWe have to move this week's call to create ti
 me for a new meetup proposal.\n\nThe WoT Community Group accelerates and f
 osters collaboration around the WoT standards of the Working Group. In the
 se monthly meetings\, you can join to discuss the work of the CG such as:\
 n\n- reports from the focus groups or task forces\n- a casual showcase of 
 your WoT project to get feedback\n- planning of activities such as meetups
  and plugfests\n- any relevant topics around WoT\n- reach CG resolutions\n
 \nAgenda: https://github.com/w3c/wot-cg/wiki/Meeting-Agenda
STATUS:CANCELLED
CREATED:20240423T084528Z
LAST-MODIFIED:20240521T135602Z
SEQUENCE:2
ORGANIZER;CN=W3C Calendar;PARTSTAT=ACCEPTED;ROLE=NON-PARTICIPANT:mailto:nor
 eply@w3.org
ATTENDEE;CUTYPE=GROUP;ROLE=OPT-PARTICIPANT;RSVP=FALSE;CN=Web of Things Comm
 unity Group:mailto:public-web-of-things@w3.org
RECURRENCE-ID;TZID=Europe/Berlin:20240507T160000
END:VEVENT
BEGIN:VEVENT
UID:881f7fe2-a545-4d7a-90c7-655d0f9cbd0e
DTSTAMP:20240801T072806Z
SUMMARY:WoT CG Monthly Call
DTSTART;TZID=Europe/Berlin:20240903T160000
DTEND;TZID=Europe/Berlin:20240903T170000
DESCRIPTION:https://www.w3.org/events/meetings/881f7fe2-a545-4d7a-90c7-655d
 0f9cbd0e/20240903T160000/\n\nHoliday Season Cancellation\n\nThe WoT Commun
 ity Group accelerates and fosters collaboration around the WoT standards o
 f the Working Group. In these monthly meetings\, you can join to discuss t
 he work of the CG such as:\n\n- reports from the focus groups or task forc
 es\n- a casual showcase of your WoT project to get feedback\n- planning of
  activities such as meetups and plugfests\n- any relevant topics around Wo
 T\n- reach CG resolutions\n\nAgenda: https://github.com/w3c/wot-cg/wiki/Me
 eting-Agenda
STATUS:CANCELLED
CREATED:20240801T072803Z
LAST-MODIFIED:20240801T072806Z
SEQUENCE:1
ORGANIZER;CN=W3C Calendar;PARTSTAT=ACCEPTED;ROLE=NON-PARTICIPANT:mailto:nor
 eply@w3.org
ATTENDEE;CUTYPE=GROUP;ROLE=OPT-PARTICIPANT;RSVP=FALSE;CN=Web of Things Comm
 unity Group:mailto:public-web-of-things@w3.org
RECURRENCE-ID;TZID=Europe/Berlin:20240903T160000
END:VEVENT
BEGIN:VEVENT
UID:881f7fe2-a545-4d7a-90c7-655d0f9cbd0e
DTSTAMP:20240913T203156Z
SUMMARY:WoT CG Monthly Call
DTSTART;TZID=Europe/Berlin:20241001T160000
DTEND;TZID=Europe/Berlin:20241001T170000
DESCRIPTION:https://www.w3.org/events/meetings/881f7fe2-a545-4d7a-90c7-655d
 0f9cbd0e/20241001T160000/\n\nColocated with meetup at https://www.w3.org/e
 vents/meetings/b74f11e7-93d6-4b15-b998-6e55054a6f61/\n\nThe WoT Community 
 Group accelerates and fosters collaboration around the WoT standards of th
 e Working Group. In these monthly meetings\, you can join to discuss the w
 ork of the CG such as:\n\n- reports from the focus groups or task forces\n
 - a casual showcase of your WoT project to get feedback\n- planning of act
 ivities such as meetups and plugfests\n- any relevant topics around WoT\n-
  reach CG resolutions\n\nAgenda: https://github.com/w3c/wot-cg/wiki/Meetin
 g-Agenda
STATUS:CANCELLED
CREATED:20240913T203154Z
LAST-MODIFIED:20240913T203156Z
SEQUENCE:1
ORGANIZER;CN=W3C Calendar;PARTSTAT=ACCEPTED;ROLE=NON-PARTICIPANT:mailto:nor
 eply@w3.org
ATTENDEE;CUTYPE=GROUP;ROLE=OPT-PARTICIPANT;RSVP=FALSE;CN=Web of Things Comm
 unity Group:mailto:public-web-of-things@w3.org
RECURRENCE-ID;TZID=Europe/Berlin:20241001T160000
END:VEVENT
END:VCALENDAR
