BEGIN:VCALENDAR
VERSION:2.0
PRODID:-//Sabre//Sabre VObject 4.5.8//EN
CALSCALE:GREGORIAN
LAST-MODIFIED:20260102T122921Z
BEGIN:VTIMEZONE
TZID:Europe/Berlin
X-MICROSOFT-CDO-TZID:4
BEGIN:DAYLIGHT
DTSTART:20250330T010000
TZOFFSETFROM:+0100
TZOFFSETTO:+0200
TZNAME:CEST
END:DAYLIGHT
BEGIN:DAYLIGHT
DTSTART:20260329T010000
TZOFFSETFROM:+0100
TZOFFSETTO:+0200
TZNAME:CEST
END:DAYLIGHT
BEGIN:STANDARD
DTSTART:20251026T010000
TZOFFSETFROM:+0200
TZOFFSETTO:+0100
TZNAME:CET
END:STANDARD
END:VTIMEZONE
BEGIN:VEVENT
UID:04a42553-5164-4db2-a3fb-6de9b96bbc22
DTSTAMP:20260102T122921Z
SUMMARY:WoT CG Monthly Call
DTSTART;TZID=Europe/Berlin:20260106T160000
DTEND;TZID=Europe/Berlin:20260106T170000
DESCRIPTION:https://www.w3.org/events/meetings/04a42553-5164-4db2-a3fb-6de9
 b96bbc22/20260106T160000/\n\nPublic holiday in Germany\n\nThe WoT Communit
 y Group accelerates and fosters collaboration around the WoT standards of 
 the Working Group. In these monthly meetings\, you can join to discuss the
  work of the CG such as:\n\n- reports from the focus groups or task forces
 \n- a casual showcase of your WoT project to get feedback\n- planning of a
 ctivities such as meetups and plugfests\n- any relevant topics around WoT\
 n- reach CG resolutions\n\nAgenda: https://github.com/w3c/wot-cg/wiki/Meet
 ing-Agenda
STATUS:CANCELLED
CREATED:20260102T122918Z
LAST-MODIFIED:20260102T122921Z
SEQUENCE:1
ORGANIZER;CN=W3C Calendar;PARTSTAT=ACCEPTED;ROLE=NON-PARTICIPANT:mailto:nor
 eply@w3.org
ATTENDEE;CUTYPE=GROUP;ROLE=OPT-PARTICIPANT;RSVP=FALSE;CN=Web of Things Comm
 unity Group:mailto:public-web-of-things@w3.org
RECURRENCE-ID;TZID=Europe/Berlin:20260106T160000
END:VEVENT
END:VCALENDAR
