BEGIN:VCALENDAR
VERSION:2.0
PRODID:-//Sabre//Sabre VObject 4.5.8//EN
CALSCALE:GREGORIAN
LAST-MODIFIED:20241204T162214Z
BEGIN:VTIMEZONE
TZID:America/New_York
X-MICROSOFT-CDO-TZID:10
BEGIN:DAYLIGHT
DTSTART:20240310T070000
TZOFFSETFROM:-0500
TZOFFSETTO:-0400
TZNAME:EDT
END:DAYLIGHT
BEGIN:DAYLIGHT
DTSTART:20250309T070000
TZOFFSETFROM:-0500
TZOFFSETTO:-0400
TZNAME:EDT
END:DAYLIGHT
BEGIN:STANDARD
DTSTART:20241103T060000
TZOFFSETFROM:-0400
TZOFFSETTO:-0500
TZNAME:EST
END:STANDARD
END:VTIMEZONE
BEGIN:VEVENT
UID:04977918-865f-4049-a189-1456adbc40e1
DTSTAMP:20241204T162214Z
SUMMARY:Privacy Working first-thursday
DTSTART;TZID=America/New_York:20241205T120000
DTEND;TZID=America/New_York:20241205T130000
DESCRIPTION:https://www.w3.org/events/meetings/04977918-865f-4049-a189-1456
 adbc40e1/20241205T120000/\n\n\n\nAgenda: https://github.com/w3c/privacywg/
 labels/agenda\n\nAgenda\n\n1. Introductions\, Code of Conduct\n2. open pri
 vacy reviews: just a status check\n    * Input Events\n    * Verifiable Cr
 edentials \n1. WebGPU\n    * [WebGPU transition request](https://github.co
 m/w3c/transitions/issues/676)\n    * [fingerprinting surface issue](https:
 //github.com/gpuweb/gpuweb/issues/3101)\n1. GPC\n    * reviewing PRs based
  on last meeting's discussion\n        * w3c/gpc#87 addressing w3c/gpc#82\
 n        * w3c/gpc#88 addressing w3c/gpc#80\n1. AOB\n    * [privacy consid
 erations for Digital Credentials Community Group Report](https://github.co
 m/WICG/digital-credentials/pull/189)\n    * Request-OTR: should we suggest
  adoption into this Working Group?
STATUS:CONFIRMED
CREATED:20241204T162050Z
LAST-MODIFIED:20241204T162214Z
SEQUENCE:5
ORGANIZER;CN=W3C Calendar;PARTSTAT=ACCEPTED;ROLE=NON-PARTICIPANT:mailto:nor
 eply@w3.org
ATTENDEE;CUTYPE=GROUP;ROLE=OPT-PARTICIPANT;RSVP=FALSE;CN=Privacy Working Gr
 oup:mailto:public-privacy@w3.org
RECURRENCE-ID;TZID=America/New_York:20241205T120000
END:VEVENT
END:VCALENDAR
