BEGIN:VCALENDAR
VERSION:2.0
PRODID:-//Sabre//Sabre VObject 4.5.8//EN
CALSCALE:GREGORIAN
LAST-MODIFIED:20260219T141222Z
BEGIN:VTIMEZONE
TZID:Europe/London
X-MICROSOFT-CDO-TZID:1
BEGIN:DAYLIGHT
DTSTART:20250330T010000
TZOFFSETFROM:+0000
TZOFFSETTO:+0100
TZNAME:BST
END:DAYLIGHT
BEGIN:DAYLIGHT
DTSTART:20260329T010000
TZOFFSETFROM:+0000
TZOFFSETTO:+0100
TZNAME:BST
END:DAYLIGHT
BEGIN:STANDARD
DTSTART:20251026T010000
TZOFFSETFROM:+0100
TZOFFSETTO:+0000
TZNAME:GMT
END:STANDARD
END:VTIMEZONE
BEGIN:VEVENT
UID:04818d54-4744-4779-950d-6820765c2ced
DTSTAMP:20260219T141222Z
SUMMARY:WoT TD/Binding Templates - Slot 1
DTSTART;TZID=Europe/London:20260225T150000
DTEND;TZID=Europe/London:20260225T160000
DESCRIPTION:https://www.w3.org/events/meetings/04818d54-4744-4779-950d-6820
 765c2ced/20260225T150000/\n\nEge is not available but not cancelling yet s
 ince we cannot uncancel.\n\nThe [WoT Thing Description task force](https:/
 /www.w3.org/WoT/IG/wiki/WG_WoT_Thing_Description_WebConf) is responsible f
 or defining the information model for WoT Thing metadata\, its interpretat
 ion\, and its common representation. In addition\, the task force covers W
 oT Binding Templates topics to define the mapping from the abstract intera
 ction model used in the Thing Description metadata to concrete IoT protoco
 ls and payload encodings.\n\nAgenda: https://www.w3.org/WoT/IG/wiki/WG_WoT
 _Thing_Description_WebConf#Agenda
STATUS:CANCELLED
CREATED:20260127T141823Z
LAST-MODIFIED:20260219T141222Z
SEQUENCE:6
ORGANIZER;CN=W3C Calendar;PARTSTAT=ACCEPTED;ROLE=NON-PARTICIPANT:mailto:nor
 eply@w3.org
ATTENDEE;CUTYPE=GROUP;ROLE=OPT-PARTICIPANT;RSVP=FALSE;CN=Web of Things Inte
 rest Group:mailto:public-wot-ig@w3.org
ATTENDEE;CUTYPE=GROUP;ROLE=OPT-PARTICIPANT;RSVP=FALSE;CN=Web of Things Work
 ing Group:mailto:public-wot-wg@w3.org
LOCATION:Zoom
RECURRENCE-ID;TZID=Europe/London:20260225T150000
END:VEVENT
END:VCALENDAR
