BEGIN:VCALENDAR
VERSION:2.0
PRODID:-//Sabre//Sabre VObject 4.5.8//EN
CALSCALE:GREGORIAN
LAST-MODIFIED:20250423T065600Z
BEGIN:VTIMEZONE
TZID:Etc/UTC
BEGIN:STANDARD
DTSTART:20240305T170000
TZOFFSETFROM:+0000
TZOFFSETTO:+0000
TZNAME:UTC
END:STANDARD
END:VTIMEZONE
BEGIN:VEVENT
UID:04729866-4338-4848-9afc-efc346ff1b5d
DTSTAMP:20250423T065600Z
SUMMARY:WebView CG Meeting
DTSTART;TZID=Etc/UTC:20250228T170000
DTEND;TZID=Etc/UTC:20250228T180000
DESCRIPTION:https://www.w3.org/events/meetings/04729866-4338-4848-9afc-efc3
 46ff1b5d/\n\nLet's talk about WebView testing\, apps and the TAG draft abo
 ut user agents\n\nWe would like to comment as a group to the user agents d
 raft. Please check and comment on the [discussion](https://github.com/orgs
 /WebView-CG/discussions/7)\n\nAgenda: https://bit.ly/webview-cg-28-feb-202
 5\n\nAgenda\n\nHighlights:\n\n* WebView Testing App Proof of concept\n* TA
 G Draft about user agents\n* Discuss Safe Area Problem as example for misl
 eading BCD data
STATUS:CONFIRMED
CREATED:20250212T230014Z
LAST-MODIFIED:20250423T065600Z
SEQUENCE:1
ORGANIZER;CN=W3C Calendar;PARTSTAT=ACCEPTED;ROLE=NON-PARTICIPANT:mailto:nor
 eply@w3.org
ATTENDEE;CUTYPE=GROUP;ROLE=OPT-PARTICIPANT;RSVP=FALSE;CN=WebView Community 
 Group:mailto:public-webview@w3.org
END:VEVENT
END:VCALENDAR
