BEGIN:VCALENDAR
VERSION:2.0
PRODID:-//Sabre//Sabre VObject 4.5.8//EN
CALSCALE:GREGORIAN
LAST-MODIFIED:20220404T144057Z
BEGIN:VTIMEZONE
TZID:Asia/Tokyo
X-MICROSOFT-CDO-TZID:20
BEGIN:STANDARD
DTSTART:20210424T010000
TZOFFSETFROM:+0900
TZOFFSETTO:+0900
TZNAME:JST
END:STANDARD
END:VTIMEZONE
BEGIN:VEVENT
UID:040d46b1-68bb-4638-ac72-226706d3c0bd
DTSTAMP:20220404T144057Z
SUMMARY:JLreq TF call on font specific topics
DTSTART;TZID=Asia/Tokyo:20220419T100000
DTEND;TZID=Asia/Tokyo:20220419T120000
DESCRIPTION:https://www.w3.org/events/meetings/040d46b1-68bb-4638-ac72-2267
 06d3c0bd/\n\nJLreq TF call series on Tue 10am JST\, this is specific for f
 ont topics.\n日本語組版タスクフォースの火曜午前10時か
 らの会議で、今回はフォント分科会です。\n\n注：Zoomミ
 ーティングリンクが2021/08/17分より新しいものになって
 います。\nhttps://www.w3.org/2021/04/jlreq-meeting-info.html\nにて
 確認してください。\n\nagenda: https://lists.w3.org/Archives/Publi
 c/public-i18n-japanese/2021JulSep/0174.html
STATUS:CONFIRMED
CREATED:20210715T012540Z
LAST-MODIFIED:20220404T144057Z
SEQUENCE:6
ORGANIZER;CN=W3C Calendar;PARTSTAT=ACCEPTED;ROLE=NON-PARTICIPANT:mailto:nor
 eply@w3.org
ATTENDEE;CUTYPE=GROUP;ROLE=OPT-PARTICIPANT;RSVP=FALSE;CN=Japanese Layout Ta
 sk Force | 日本語組版タスクフォース:mailto:public-i18n-japanes
 e@w3.org
LOCATION:https://www.w3.org/2021/04/jlreq-meeting-info.html
END:VEVENT
END:VCALENDAR
