BEGIN:VCALENDAR
VERSION:2.0
PRODID:-//Sabre//Sabre VObject 4.5.8//EN
CALSCALE:GREGORIAN
LAST-MODIFIED:20220914T220110Z
BEGIN:VTIMEZONE
TZID:America/Vancouver
BEGIN:STANDARD
DTSTART:20211107T090000
TZOFFSETFROM:-0700
TZOFFSETTO:-0800
TZNAME:PST
END:STANDARD
BEGIN:STANDARD
DTSTART:20221106T090000
TZOFFSETFROM:-0700
TZOFFSETTO:-0800
TZNAME:PST
END:STANDARD
BEGIN:DAYLIGHT
DTSTART:20220313T100000
TZOFFSETFROM:-0800
TZOFFSETTO:-0700
TZNAME:PDT
END:DAYLIGHT
END:VTIMEZONE
BEGIN:VEVENT
UID:03807e2f-01bb-4572-8261-3fcde9c9cf3e
DTSTAMP:20220914T220110Z
SUMMARY:Web of Things (WoT) Status Update and Demos
DTSTART;TZID=America/Vancouver:20220914T150000
DTEND;TZID=America/Vancouver:20220914T160000
DESCRIPTION:https://www.w3.org/events/meetings/03807e2f-01bb-4572-8261-3fcd
 e9c9cf3e/\n\nPresent the current status of the Web of Things in the WoT IG
 /WG and CGs\, and showcase a number of application demonstrations.\n\nAgen
 da\n\n**Facilitators & speakers**: Michael McCool\n\n**Session type**: Seq
 uence of short presentations (status\, then 3-4 demos)\n\n**Summary**: Pre
 sent the current status of the Web of Things in the WoT IG/WG and CGs\, an
 d showcase a number of application demonstrations.\n\n**Goals**:\n-  Intro
 duce people to WoT and showcase application experience.\n\nJoining Instruc
 tions: https://us02web.zoom.us/j/3461096425?pwd=OUN6UkducnIxSmplWG9jNXdPSk
 ZTUT09\n\nChat\n\nhttps://irc.w3.org/?channels=%23wot-demo
STATUS:CONFIRMED
CREATED:20220909T111716Z
LAST-MODIFIED:20220914T220110Z
SEQUENCE:1
ORGANIZER;CN=W3C Calendar;PARTSTAT=ACCEPTED;ROLE=NON-PARTICIPANT:mailto:nor
 eply@w3.org
ATTENDEE;CN=Martin Alvarez-Espinar:mailto:martin.alvarez.espinar1@huawei.co
 m
ATTENDEE;CN=Providence Baraka:mailto:barakaprovidence@gmail.com
ATTENDEE;CN=Pierre-Antoine Champin:mailto:pierre-antoine@w3.org
ATTENDEE;CN=David Ezell:mailto:dezell@conexxus.org
ATTENDEE;CN=Hiroshi Fujisawa:mailto:fujisawa.h-ja@nhk.or.jp
ATTENDEE;CN=Shirisha Gubba:mailto:nsfsiri2014@gmail.com
ATTENDEE;CN=Hakan Isbiliroglu:mailto:hisbilir@google.com
ATTENDEE;CN=Gregg Kellogg:mailto:gregg@greggkellogg.net
ATTENDEE;CN=Ege Korkan:mailto:ege.korkan@siemens.com
ATTENDEE;CN=Maria Mandlis:mailto:mmandlis@google.com
ATTENDEE;CN=Ben Morss:mailto:morss@google.com
ATTENDEE;CN=Bradley Needham:mailto:bradley.needham@sony.com
ATTENDEE;CN=Vincent Scheib:mailto:scheib@google.com
ATTENDEE;CN=Suzanne Taylor:mailto:Suzanne.Taylor@thingsentertainment.net
ATTENDEE;CN=Kunihiko Toumura:mailto:kunihiko.toumura.yv@hitachi.com
LOCATION:Junior A — North Tower 3rd floor
CATEGORIES:TPAC 2022,Breakout Sessions
END:VEVENT
END:VCALENDAR
