BEGIN:VCALENDAR
VERSION:2.0
PRODID:-//Sabre//Sabre VObject 4.5.8//EN
CALSCALE:GREGORIAN
LAST-MODIFIED:20260219T060451Z
BEGIN:VTIMEZONE
TZID:Asia/Tokyo
X-MICROSOFT-CDO-TZID:20
BEGIN:STANDARD
DTSTART:20241117T083000
TZOFFSETFROM:+0900
TZOFFSETTO:+0900
TZNAME:JST
END:STANDARD
END:VTIMEZONE
BEGIN:VEVENT
UID:02ae621d-93bb-493c-a65b-573c9ab205e0
DTSTAMP:20260219T060451Z
SUMMARY:Web of Things Live Demonstration
DTSTART;TZID=Asia/Tokyo:20251112T173000
DTEND;TZID=Asia/Tokyo:20251112T183000
DESCRIPTION:https://www.w3.org/events/meetings/02ae621d-93bb-493c-a65b-573c
 9ab205e0/\n\nThe Web of Things (WoT) WG/IG will run a PlugFest from 09-11 
 November. This breakout session will show the results of the PlugFest incl
 uding live demos from different participants. \n\nYou will learn how WoT c
 ounters the fragmentation of the Internet of Things (IoT) by using and ext
 ending existing\, standardized Web technologies. By providing standardized
  metadata and other re-usable technological building blocks\, W3C WoT enab
 les easy integration across IoT platforms and application domains.\n\n**Go
 al(s):**\npresenting live demos from the WoT PlugFest and learn\, e.g.\, P
 lug&Play device onboarding with WoT\n\nAgenda\n\n**Materials:**\n- [Sessio
 n proposal on GitHub](https://github.com/w3c/tpac2025-breakouts/issues/7)
STATUS:CONFIRMED
CREATED:20251028T073353Z
LAST-MODIFIED:20260219T060451Z
SEQUENCE:4
ORGANIZER;CN=W3C Calendar;PARTSTAT=ACCEPTED;ROLE=NON-PARTICIPANT:mailto:nor
 eply@w3.org
LOCATION:Floor 3 - 307
CATEGORIES:TPAC 2025,Breakout Sessions
END:VEVENT
END:VCALENDAR
