BEGIN:VCALENDAR
VERSION:2.0
PRODID:-//Sabre//Sabre VObject 4.5.8//EN
CALSCALE:GREGORIAN
LAST-MODIFIED:20250214T015113Z
BEGIN:VTIMEZONE
TZID:America/New_York
X-MICROSOFT-CDO-TZID:10
BEGIN:STANDARD
DTSTART:20241103T060000
TZOFFSETFROM:-0400
TZOFFSETTO:-0500
TZNAME:EST
END:STANDARD
BEGIN:STANDARD
DTSTART:20251102T060000
TZOFFSETFROM:-0400
TZOFFSETTO:-0500
TZNAME:EST
END:STANDARD
BEGIN:DAYLIGHT
DTSTART:20250309T070000
TZOFFSETFROM:-0500
TZOFFSETTO:-0400
TZNAME:EDT
END:DAYLIGHT
END:VTIMEZONE
BEGIN:VEVENT
UID:024a6a67-ae98-4e77-aea2-caa428a3c662
DTSTAMP:20250214T015113Z
SUMMARY:WCAG2ICT SC Analysis sub-group
DTSTART;TZID=America/New_York:20250314T113000
DTEND;TZID=America/New_York:20250314T123000
DESCRIPTION:https://www.w3.org/events/meetings/024a6a67-ae98-4e77-aea2-caa4
 28a3c662/20250314T113000/\n\nWe'll be meeting for a few weeks until the SC
  analyses are complete. As preparation\, please start your analysis and pu
 t in your thoughts in the two spreadsheets we'll be working from:\n- [Tech
 nology-specific notes needed](https://docs.google.com/spreadsheets/d/1uhTM
 gAMVbYjPV26Ye6ladXTBNe5SVAx2/edit?usp=sharing&ouid=102514231055078432542&r
 tpof=true&sd=true)\n- [Suggested SC language changes](https://docs.google.
 com/spreadsheets/d/1cRGxHxV0mBEI_rvcc2EXS9xcBanQjG6k/edit?usp=sharing&ouid
 =102514231055078432542&rtpof=true&sd=true)\n\nAgenda\n\nThe first week (14
  Feb.) we will be deciding on the technologies/technology classes to infor
 m the rest of the analysis for tech-specific notes spreadsheet.  If there'
 s time\, we'll start looking at the first 10-15 SC in the suggested SC lan
 guage changes spreadsheet so you can be prepared ahead of time for that di
 scussion.
STATUS:CONFIRMED
CREATED:20250212T161048Z
LAST-MODIFIED:20250214T015113Z
SEQUENCE:2
ORGANIZER;CN=W3C Calendar;PARTSTAT=ACCEPTED;ROLE=NON-PARTICIPANT:mailto:nor
 eply@w3.org
ATTENDEE;CUTYPE=GROUP;ROLE=OPT-PARTICIPANT;RSVP=FALSE;CN=WCAG2ICT Task Forc
 e:mailto:public-wcag2ict-tf@w3.org
RECURRENCE-ID;TZID=America/New_York:20250314T113000
END:VEVENT
END:VCALENDAR
