BEGIN:VCALENDAR
VERSION:2.0
PRODID:-//Sabre//Sabre VObject 4.5.8//EN
CALSCALE:GREGORIAN
LAST-MODIFIED:20220913T203045Z
BEGIN:VTIMEZONE
TZID:America/Los_Angeles
X-MICROSOFT-CDO-TZID:13
BEGIN:STANDARD
DTSTART:20211107T090000
TZOFFSETFROM:-0700
TZOFFSETTO:-0800
TZNAME:PST
END:STANDARD
BEGIN:STANDARD
DTSTART:20221106T090000
TZOFFSETFROM:-0700
TZOFFSETTO:-0800
TZNAME:PST
END:STANDARD
BEGIN:DAYLIGHT
DTSTART:20220313T100000
TZOFFSETFROM:-0800
TZOFFSETTO:-0700
TZNAME:PDT
END:DAYLIGHT
END:VTIMEZONE
BEGIN:VEVENT
UID:021b74cf-1c4d-4034-a758-f8f88290b55d
DTSTAMP:20220913T203045Z
SUMMARY:Internationalization WG TPAC (Virtual)
DTSTART;TZID=America/Los_Angeles:20220915T070000
DTEND;TZID=America/Los_Angeles:20220915T090000
DESCRIPTION:https://www.w3.org/events/meetings/021b74cf-1c4d-4034-a758-f8f8
 8290b55d/\n\n\n\nAgenda: https://www.w3.org/wiki/TPAC/2022\n\nAgenda\n\n##
 ## Pending Issue Review\nhttps://github.com/w3c/i18n-activity/issues?q=is%
 3Aissue+is%3Aopen+label%3Apending\n\n\n---\n\n### BE PREPARED \n\n\n### RE
 MINDER \n\nGetting too many of these notifications? Read [this](https://li
 sts.w3.org/Archives/Member/member-i18n-core/2022Mar/0013.html) email from 
 Richard on how to manage notifications.\n\n### SCRIBE \n\nIf you are set t
 o scribe and cannot make it\, please send regrets to the chair. Volunteers
  to act as scribe cheerfully accepted.\n\nFelix [2022-08-18]\nFuqiao [2022
 -08-25]\nAtsushi [2022-09-01]\nBert [2022-09-08]\n\n### MEETING INFO\n\nht
 tps://www.w3.org/2017/09/i18n-meeting-info.html (Member Only Link)\n\n### 
 AGENDA (for agendabot)\n\nTopic: Agenda Review\nTopic: Action Items\nTopic
 : Info Share\nTopic: RADAR Review\nTopic: Pending Issue Review\nTopic: AOB
 ?\n\n### Chair's Link Farm\nhttps://www.w3.org/International/track/actions
 /open\nhttps://github.com/w3c/i18n-request/projects/1\nhttps://github.com/
 w3c/i18n-activity/issues?q=is%3Aissue+is%3Aopen+label%3Apending
STATUS:CONFIRMED
CREATED:20220607T195754Z
LAST-MODIFIED:20220913T203045Z
SEQUENCE:3
ORGANIZER;CN=W3C Calendar;PARTSTAT=ACCEPTED;ROLE=NON-PARTICIPANT:mailto:nor
 eply@w3.org
ATTENDEE;CUTYPE=GROUP;ROLE=OPT-PARTICIPANT;RSVP=FALSE;CN=Internationalizati
 on Working Group:mailto:public-i18n-core@w3.org
END:VEVENT
END:VCALENDAR
