BEGIN:VCALENDAR
VERSION:2.0
PRODID:-//Sabre//Sabre VObject 4.5.8//EN
CALSCALE:GREGORIAN
LAST-MODIFIED:20240914T205349Z
BEGIN:VTIMEZONE
TZID:America/New_York
X-MICROSOFT-CDO-TZID:10
BEGIN:STANDARD
DTSTART:20231105T060000
TZOFFSETFROM:-0400
TZOFFSETTO:-0500
TZNAME:EST
END:STANDARD
BEGIN:STANDARD
DTSTART:20241103T060000
TZOFFSETFROM:-0400
TZOFFSETTO:-0500
TZNAME:EST
END:STANDARD
BEGIN:DAYLIGHT
DTSTART:20240310T070000
TZOFFSETFROM:-0500
TZOFFSETTO:-0400
TZNAME:EDT
END:DAYLIGHT
END:VTIMEZONE
BEGIN:VEVENT
UID:0204ee84-3a97-4595-9254-b1ce10bb7bbe
DTSTAMP:20240914T205349Z
SUMMARY:Research Questions Task Force Weekly Teleconference
DTSTART;TZID=America/New_York:20240918T090000
DTEND;TZID=America/New_York:20240918T095500
DESCRIPTION:https://www.w3.org/events/meetings/0204ee84-3a97-4595-9254-b1ce
 10bb7bbe/20240918T090000/\n\n\n\nAgenda\n\n## Overview\n\nThe primary purp
 ose of the meeting is to coordinate work on the development of Task Force 
 documents.\n\n## Agenda\nagenda+ XR accessibility.\n\nagenda+ Immersive ca
 ptions.\n\nagenda+ APA Working Group participation in TPAC 2024.\n\nagenda
 + AI accessibility.\n\nagenda+ Miscellaneous topics.\n\n## References\nSee
  the [overview page](https://www.w3.org/WAI/APA/task-forces/research-quest
 ions/wiki/Overview_of_Current_Work) on the wiki for references to current 
 Task Force documents.\n\n* [Collaboration Tools Accessibility User Require
 ments: open issues](https://www.github.com/w3c/ctaur/issues).\n* [Collabor
 ation Tools Accessibility User Requirements](https://w3c.github.io/ctaur/)
 .\n* [AI\, Machine Learning and Accessibility (wiki page)](https://www.w3.
 org/WAI/APA/task-forces/research-questions/wiki/AI\,_Machine_Learning_and_
 Accessibility).\n* [Recommendations for accessible captions in 360 degree 
 video](https://w3c.github.io/immersive-captions-cg/360-captions/).\n* [Med
 ia accessibility User Requirements](https://www.w3.org/TR/media-accessibil
 ity-reqs/). See also the [new repository location](https://github.com/w3c/
 maur/).\n* [Media Accessibility User requirements: open issues](https://gi
 thub.com/w3c/maur/issues).\n* [Accessibility Guidelines Working Group coor
 dination page](https://www.w3.org/WAI/APA/task-forces/research-questions/w
 iki/W3C_Accessibility_Guidelines_3.0\,_Research_Coordination).\n* [Inacces
 sibility of CAPTCHA (Public Working Draft)](https://www.w3.org/TR/turingte
 st/).\n* [Inaccessibility of CAPTCHA: open issues](https://github.com/w3c/
 captcha-accessibility/issues).\n* [Natural Language Interface Accessibilit
 y User Requirements](https://www.w3.org/TR/naur/).\n* [Natural Language In
 terface Accessibility User Requirements: open issues](https://github.com/w
 3c/naur/issues).\n\n## Minutes of Previous Meeting\nPlease see the minutes
  at <https://www.w3.org/2024/09/11-rqtf-minutes.html>.\n\n## Key Terms\n* 
 360-degree video.\n* Immersive captions.\n* Technical Plenary and Advisory
  Committee Meetings (TPAC)..\n* Git (revision control software).\n* GitHub
  (a Web site/application that hosts Git repositories).\n* Pull request (a 
 formal request on GitHub to merge changes into the main branch of a Git re
 pository).\n* WYSIWYG ("What You See Is What You Get") editing.\n* CAPTCHA
  (Completely Automated Public Turing test).\n* Media and Entertainment Int
 erest Group (MEIG).\n* Web Content Accessibility Guidelines (WCAG).\n* Acc
 essibility Guidelines Working Group (AGWG).\n* Version 3\, sometimes refer
 red to as "Silver".\n* Accessible Platform Architectures (APA) Working Gro
 up.\n* Media Accessibility User requirements (MAUR).\n* Captions\; audio d
 escriptions\; transcripts.\n* Learning and Cognitive Disabilities Accessib
 ility Task Force ("COGA").\n* Artificial intelligence (AI) and machine lea
 rning (ML).\n* Wiki page.
STATUS:CONFIRMED
CREATED:20240914T205349Z
LAST-MODIFIED:20240914T205349Z
SEQUENCE:0
ORGANIZER;CN=W3C Calendar;PARTSTAT=ACCEPTED;ROLE=NON-PARTICIPANT:mailto:nor
 eply@w3.org
ATTENDEE;CUTYPE=GROUP;ROLE=OPT-PARTICIPANT;RSVP=FALSE;CN=Research Questions
  Task Force:mailto:public-rqtf@w3.org
RECURRENCE-ID;TZID=America/New_York:20240918T090000
END:VEVENT
END:VCALENDAR
