BEGIN:VCALENDAR
VERSION:2.0
PRODID:-//Sabre//Sabre VObject 4.5.8//EN
CALSCALE:GREGORIAN
LAST-MODIFIED:20240910T152130Z
BEGIN:VTIMEZONE
TZID:America/New_York
X-MICROSOFT-CDO-TZID:10
BEGIN:STANDARD
DTSTART:20231105T060000
TZOFFSETFROM:-0400
TZOFFSETTO:-0500
TZNAME:EST
END:STANDARD
BEGIN:STANDARD
DTSTART:20241103T060000
TZOFFSETFROM:-0400
TZOFFSETTO:-0500
TZNAME:EST
END:STANDARD
BEGIN:DAYLIGHT
DTSTART:20240310T070000
TZOFFSETFROM:-0500
TZOFFSETTO:-0400
TZNAME:EDT
END:DAYLIGHT
END:VTIMEZONE
BEGIN:VEVENT
UID:0204ee84-3a97-4595-9254-b1ce10bb7bbe
DTSTAMP:20240910T152130Z
SUMMARY:Research Questions Task Force Weekly Teleconference
DTSTART;TZID=America/New_York:20240911T090000
DTEND;TZID=America/New_York:20240911T095500
DESCRIPTION:https://www.w3.org/events/meetings/0204ee84-3a97-4595-9254-b1ce
 10bb7bbe/20240911T090000/\n\n\n\nAgenda\n\n## Overview\n\nThe main purpose
  of the meeting is to discuss XR accessibility and the evolution of associ
 ated Web technologies.\n\n## Agenda\nagenda+ XR accessibility.\n\nagenda+ 
 Miscellaneous updates and topics.\n\n## References\nSee the [overview page
 ](https://www.w3.org/WAI/APA/task-forces/research-questions/wiki/Overview_
 of_Current_Work) on the wiki for references to current Task Force document
 s.\n\n* [Collaboration Tools Accessibility User Requirements: open issues]
 (https://www.github.com/w3c/ctaur/issues).\n* [Collaboration Tools Accessi
 bility User Requirements](https://w3c.github.io/ctaur/).\n* [AI\, Machine 
 Learning and Accessibility (wiki page)](https://www.w3.org/WAI/APA/task-fo
 rces/research-questions/wiki/AI\,_Machine_Learning_and_Accessibility).\n* 
 [Recommendations for accessible captions in 360 degree video](https://w3c.
 github.io/immersive-captions-cg/360-captions/).\n* [Media accessibility Us
 er Requirements](https://www.w3.org/TR/media-accessibility-reqs/). See als
 o the [new repository location](https://github.com/w3c/maur/).\n* [Media A
 ccessibility User requirements: open issues](https://github.com/w3c/maur/i
 ssues).\n* [Accessibility Guidelines Working Group coordination page](http
 s://www.w3.org/WAI/APA/task-forces/research-questions/wiki/W3C_Accessibili
 ty_Guidelines_3.0\,_Research_Coordination).\n* [Inaccessibility of CAPTCHA
  (Public Working Draft)](https://www.w3.org/TR/turingtest/).\n* [Inaccessi
 bility of CAPTCHA: open issues](https://github.com/w3c/captcha-accessibili
 ty/issues).\n* [Natural Language Interface Accessibility User Requirements
 ](https://www.w3.org/TR/naur/).\n* [Natural Language Interface Accessibili
 ty User Requirements: open issues](https://github.com/w3c/naur/issues).\n\
 n## Minutes of Previous Meeting\nPlease see the minutes at <https://www.w3
 .org/2024/09/04-rqtf-minutes.html>.\n\n## Key Terms\n* Collaboration Tools
  Accessibility User Requirements (abbreviated "CTAUR").\n* Privacy princip
 les.\n* 360-degree video.\n* Immersive captions.\n* Git (revision control 
 software).\n* GitHub (a Web site/application that hosts Git repositories).
 \n* Pull request (a formal request on GitHub to merge changes into the mai
 n branch of a Git repository).\n* WYSIWYG ("What You See Is What You Get")
  editing.\n* CAPTCHA (Completely Automated Public Turing test).\n* Technic
 al Plenary and Advisory Committee Meetings (TPAC).\n* Media and Entertainm
 ent Interest Group (MEIG).\n* Web Content Accessibility Guidelines (WCAG).
 \n* Accessibility Guidelines Working Group (AGWG).\n* Version 3\, sometime
 s referred to as "Silver".\n* Accessible Platform Architectures (APA) Work
 ing Group.\n* Media Accessibility User requirements (MAUR).\n* Captions\; 
 audio descriptions\; transcripts.\n* Learning and Cognitive Disabilities A
 ccessibility Task Force ("COGA").\n* Artificial intelligence (AI) and mach
 ine learning (ML).\n* Wiki page.
STATUS:CONFIRMED
CREATED:20240817T115419Z
LAST-MODIFIED:20240910T152130Z
SEQUENCE:0
ORGANIZER;CN=W3C Calendar;PARTSTAT=ACCEPTED;ROLE=NON-PARTICIPANT:mailto:nor
 eply@w3.org
ATTENDEE;CUTYPE=GROUP;ROLE=OPT-PARTICIPANT;RSVP=FALSE;CN=Research Questions
  Task Force:mailto:public-rqtf@w3.org
RECURRENCE-ID;TZID=America/New_York:20240911T090000
END:VEVENT
END:VCALENDAR
