BEGIN:VCALENDAR
VERSION:2.0
PRODID:-//Sabre//Sabre VObject 4.5.8//EN
CALSCALE:GREGORIAN
LAST-MODIFIED:20260219T074626Z
BEGIN:VTIMEZONE
TZID:Asia/Tokyo
X-MICROSOFT-CDO-TZID:20
BEGIN:STANDARD
DTSTART:20241115T080000
TZOFFSETFROM:+0900
TZOFFSETTO:+0900
TZNAME:JST
END:STANDARD
END:VTIMEZONE
BEGIN:VEVENT
UID:006632e7-fb94-44e9-8b12-a22f43556788
DTSTAMP:20260219T074626Z
SUMMARY:Why W3C? Motivational Drivers for Participation
DTSTART;TZID=Asia/Tokyo:20251110T170000
DTEND;TZID=Asia/Tokyo:20251110T180000
DESCRIPTION:https://www.w3.org/events/meetings/006632e7-fb94-44e9-8b12-a22f
 43556788/\n\nThis breakout examines why people participate in W3C based on
  new research\, [Investigating Motivational Drivers of Participation in W3
 C’s Web Standards Development Process](https://dspace.mit.edu/handle/172
 1.1/162519). I’ll share findings from a literature review and 13 semi‑
 structured interviews about W3C. Economic\, philosophical\, and moral driv
 ers are revealed through the frameworks of game theory\, design persons\, 
 and early Web philosophy. Also examined are the influence of structural dy
 namics like consensus requirements\, proof‑of‑implementation norms\, a
 nd the role of power players. After a concise briefing on the research's f
 indings\, I’ll open the floor for participants to share perspectives\, c
 hallenge assumptions\, and explore ideas for how these dynamics can or sho
 uld shape the future of W3C standards work.\n\n**Goal(s):**\nBuild a share
 d understanding of motivational drivers and influence patterns within W3C 
 and how these themes could inform future thinking.\n\nAgenda\n\n- Welcome 
 & context\n- Research findings briefing (20 min)\n- Open discussion: refle
 ctions\, challenges\, and ideas\n\n**Materials:**\n- [Session proposal on 
 GitHub](https://github.com/w3c/tpac2025-breakouts/issues/86)
STATUS:CONFIRMED
CREATED:20251105T142327Z
LAST-MODIFIED:20260219T074626Z
SEQUENCE:1
ORGANIZER;CN=W3C Calendar;PARTSTAT=ACCEPTED;ROLE=NON-PARTICIPANT:mailto:nor
 eply@w3.org
LOCATION:Floor 4 - 402
CATEGORIES:TPAC 2025,Breakout Sessions
END:VEVENT
END:VCALENDAR
